BEGIN:VCALENDAR
VERSION:2.0
PRODID:-//Temora Aviation Museum - ECPv4.8.1//NONSGML v1.0//EN
CALSCALE:GREGORIAN
METHOD:PUBLISH
X-WR-CALNAME:Temora Aviation Museum
X-ORIGINAL-URL:https://aviationmuseum.com.au
X-WR-CALDESC:Events for Temora Aviation Museum
BEGIN:VEVENT
DTSTART;TZID=UTC+10:20190427T100000
DTEND;TZID=UTC+10:20190427T160000
DTSTAMP:20190301T073404
CREATED:20170606T071630Z
LAST-MODIFIED:20190110T000418Z
UID:3736-1556359200-1556380800@aviationmuseum.com.au
SUMMARY:Cancelled: Anzac 2019 Aircraft Showcase
DESCRIPTION:\n					\n						Due to operational reasons\, the April 27th 2019 Aircraft Showcase has been cancelled. \nWe apologise for any inconvenience caused. \n\n\n					\n				\n
URL:https://aviationmuseum.com.au/event/cancelled-anzac-2019-aircraft-showcase/
LOCATION:Temora Aviation Museum\, 1 Tom Moon Avenue\, Temora\, NSW\, 2666\, Australia
ATTACH;FMTTYPE=image/jpeg:https://aviationmuseum.com.au/wp-content/uploads/2019/01/Cancelled-MkXVI.jpg
ORGANIZER;CN="Temora%20Aviation%20Museum":MAILTO:info@aviationmuseum.com.au
END:VEVENT
END:VCALENDAR