BEGIN:VCALENDAR
VERSION:2.0
PRODID:-//Temora Aviation Museum - ECPv4.8.1//NONSGML v1.0//EN
CALSCALE:GREGORIAN
METHOD:PUBLISH
X-WR-CALNAME:Temora Aviation Museum
X-ORIGINAL-URL:https://aviationmuseum.com.au
X-WR-CALDESC:Events for Temora Aviation Museum
BEGIN:VEVENT
DTSTART;TZID=Australia/Sydney:20191130T100000
DTEND;TZID=Australia/Sydney:20191130T160000
DTSTAMP:20190301T073709
CREATED:20171010T065857Z
LAST-MODIFIED:20181213T002041Z
UID:4236-1575108000-1575129600@aviationmuseum.com.au
SUMMARY:November 2019 Aircraft Showcase
DESCRIPTION:\n					\n						The Temora Aviation Museum’s November 2019 Aircraft Showcase event on Saturday 30th November 2019 will feature all serviceable aircraft from the Temora Aviation Museum’s collection\, which includes the Supermarine Spitfires\, CA-13 Boomerang\, Cessna O-2A\, Gloster Meteor\, Lockheed Hudson\, Wirraway\, Tiger Moth and Ryan STM S2. \nAt Temora you can get closer to the action as you witness a themed selection of Australia’s ex-military flying history come alive. \nAircraft Showcase promises to deliver a full day of entertainment for all generations\, including: \n\nFlying displays demonstrating the aircraft’s capabilities\nInformative commentary and music\nGuided tour of static exhibitions\nInterviews with pilots and veterans\nChildren’s activities and playground\nEngineering workshop tour\nPilot meet and greet\n\nOur Mess Hall serves freshly cooked food and a selection of cold refreshments. Barista coffee is also available and you are also welcome to bring your own picnic to enjoy in our shaded seating or grassed areas. \nDraft November 2019 Aircraft Showcase Program\n10.00am – Gates Open\n10.30am – 11.00am Guided Hangar Tour – Enjoy an informative guided from our Warbird expert Peter Anderson. Time to view the Exhibitions & Static Displays\n11.00am – 1.30pm Flying Program\n1.30pm – 2.30pm Flightline Tour (meet and greet with the pilots and engineers)\n2.30pm – Movie\n4.00pm – Museum Close \nNovember 2019 Aircraft Showcase Admission Prices (Saturday Only)\nAdults: $25.00 \nAdults (over 65 years): $20.00 \nChild (3 – 16 years): $15.00 \nFamily (2 adults & 2 children): $65.00. \nThe Temora Aviation Museum does not accept any liability for cancellation or alterations to published display content or programs. Children under 16 must be accompanied by an adult at all times. \n.fusion-button.button-1 .fusion-button-text\, .fusion-button.button-1 i {color:#ffffff;}.fusion-button.button-1 {border-width:0px;border-color:#ffffff;}.fusion-button.button-1 .fusion-button-icon-divider{border-color:#ffffff;}.fusion-button.button-1:hover .fusion-button-text\, .fusion-button.button-1:hover i\,.fusion-button.button-1:focus .fusion-button-text\, .fusion-button.button-1:focus i\,.fusion-button.button-1:active .fusion-button-text\, .fusion-button.button-1:active{color:#ffffff;}.fusion-button.button-1:hover\, .fusion-button.button-1:focus\, .fusion-button.button-1:active{border-width:0px;border-color:#ffffff;}.fusion-button.button-1:hover .fusion-button-icon-divider\, .fusion-button.button-1:hover .fusion-button-icon-divider\, .fusion-button.button-1:active .fusion-button-icon-divider{border-color:#ffffff;}.fusion-button.button-1{width:100%;}Purchase Tickets\n\n					\n				\n
URL:https://aviationmuseum.com.au/event/november-2019-aircraft-showcase/
LOCATION:Temora Aviation Museum\, 1 Tom Moon Avenue\, Temora\, NSW\, 2666\, Australia
CATEGORIES:Showcase
ATTACH;FMTTYPE=image/jpeg:https://aviationmuseum.com.au/wp-content/uploads/2017/10/FOX2830.jpg
ORGANIZER;CN="Temora%20Aviation%20Museum":MAILTO:info@aviationmuseum.com.au
END:VEVENT
END:VCALENDAR